{"text_format":"3","workbook":"xlsx","n_sheets":15,"sheets":["填表说明","列表清单","Ⅰ","II-1 II-2","II-3","II-4","Ⅲ-1-1","Ⅲ-1-2 ","Ⅲ-2","Ⅲ-3","Ⅲ-4","Ⅲ-5","Ⅳ-1 IV-2","IV-3 IV-4","IV-5 IV-6"],"read":"whole","date_system":"1900"}

{"sheet":"填表说明","index":0,"n_rows":12,"n_cols":1,"rows_kept":12,"merged":[[0,0,0,2],[1,0,1,2],[2,0,2,2],[3,0,3,2],[4,0,4,2],[5,0,5,2],[6,0,6,2],[7,0,7,2],[8,0,8,2],[9,0,9,2],[10,0,10,2],[11,0,11,2]]}
["学位授权点基本状态信息表"]
["（专业学位）"]
[]
["填 写 说 明"]
[]
["一、本表是学位授权点完成自我评估后，对《学位授权点自我评估总结报告》的细化补充材料，本表中所描述的内容和数据应确属本学位点，必须真实、准确，有据可查。"]
["二、单位代码按照国务院学位委员会办公室编、北京大学出版社2004年3月出版的《高等学校和科研机构学位与研究生教育管理信息标准》中的代码填写。"]
["三、工程博士和工程硕士专业学位类别按领域分别填写本表，其他专业学位类别按类别填写。授权类别名称及其代码按照国务院学位委员会、教育部2011年颁布的《学位授予和人才培养学科目录》填写。工程博士和工程硕士专业学位类别名称后需括号注明领域名称，代码栏填写领域代码。"]
["四、除另有说明外，所填报各项与时间相关的内容均截至2017年12月31日，“近五年”的统计时间为2013年1月1日至2017年12月31日。"]
["五、除另有说明外，本表填写中涉及的人员均指人事关系隶属本单位的在编人员以及与本单位签署全职工作合同（截至2017年12月31日合同尚在有效期内）的专任教师（含外籍教师），兼职人员不计在内；表中涉及的成果（论文、专著、专利、科研奖项、教学成果等）均指署名第一单位获得的成果。"]
["六、本表中的科研经费应是本学科实际获得并计入本单位财务账目的经费。"]
["七、本表不能填写任何涉密内容。涉密信息请按国家有关保密规定进行脱密，处理至可以公开后方可填写。"]

{"sheet":"列表清单","index":1,"n_rows":32,"n_cols":2,"rows_kept":32,"merged":[[0,0,0,1],[31,0,31,1]]}
["列表清单"]
["Ⅰ 专业学位领域（方向）与特色","√"]
["Ⅱ  师资队伍"]
["      II-1  专任教师基本情况","√"]
["      II-2  行业教师基本情况","√"]
["      II-3  各领域（方向）教师情况","√"]
["      II-4  近五年专任教师参加教学相关培训情况","√"]
["Ⅲ  人才培养"]
["      Ⅲ-1  研究生招生与学位授予情况"]
["            Ⅲ-1-1  博士研究生招生与学位授予人数（仅博士专业学位授权点填写）","√"]
["            Ⅲ-1-2  硕士研究生招生与学位授予情况","√"]
["      Ⅲ-2  课程与教学情况"]
["            Ⅲ-2-1  开设的研究生主要课程（不含全校公共课）","√"]
["            Ⅲ-2-2  近五年教学获奖情况","√"]
["      Ⅲ-3  近五年在校生取得成果","√"]
["      Ⅲ-4  近五年在校生参加相关资格证书及培训考试情况","√"]
["      Ⅲ-5  毕业生情况"]
["            Ⅲ-5-1  近5年毕业生就业基本情况","√"]
["            Ⅲ-5-2  近5年毕业生签约单位类型分布","√"]
["Ⅳ  培养环境与条件"]
["      Ⅳ-1  成果转化/应用","√"]
["      Ⅳ-2  实践教学"]
["            Ⅳ-2-1  校外实践教学基地情况","√"]
["            Ⅳ-2-2  近五年专业实践活动与成果情况","√"]
["      Ⅳ-3  近五年科研情况"]
["            Ⅳ-3-1  近五年科研成果情况","√"]
["      Ⅳ-4  近五年国际国内学术交流情况","√"]
["      Ⅳ-5  可用于本专业学位研究生培养的教学/科研支撑"]
["            Ⅳ-5-1  教学基本设施","√"]
["            Ⅳ-5-2  校内教学科研平台","√"]
["      Ⅳ-6  近五年奖助学金情况","√"]
["用户共需填写21个表格（以上列表中打对勾的表格），按顺序整理在13个sheet中。"]

{"sheet":"Ⅰ","index":2,"n_rows":10,"n_cols":2,"rows_kept":10,"merged":[[0,0,1,0],[5,0,5,2],[6,0,6,2],[7,0,7,2],[8,0,8,2],[9,1,9,2],[10,1,10,2],[11,1,11,2],[12,1,12,2],[13,1,13,2],[14,1,14,2],[15,1,15,2],[16,1,16,2],[17,1,17,2],[18,1,18,2],[19,1,19,2],[20,1,20,2],[21,1,21,2],[22,1,22,2],[23,1,23,2],[24,1,24,2],[25,1,25,2],[26,1,26,2],[27,1,27,2],[28,1,28,2],[29,1,29,2],[30,1,30,2],[31,1,31,2],[32,1,32,2],[33,1,33,2],[34,1,34,2],[35,1,35,2],[36,1,36,2],[37,1,37,2],[38,1,38,2],[39,1,39,2],[40,1,40,2]]}
["学位授予单位","名称："]
[null,"代码："]
["授 权 类 别","名称："]
["（ 领 域 ）","代码："]
["授 权 级 别"]
[]
["注：不分设领域（方向）的专业学位类别按类别填写1条。"]
[]
["Ⅰ 专业学位领域（方向）与特色 "]
["专业学位领域（方向）","特色与优势（限200字）"]

{"sheet":"II-1 II-2","index":3,"n_rows":32,"n_cols":11,"rows_kept":32,"merged":[[0,0,0,10],[1,0,1,10],[8,0,8,3],[8,4,8,7],[8,8,8,10],[9,0,9,3],[9,4,9,7],[9,8,9,10],[10,0,10,10],[11,0,11,10],[12,0,12,10],[13,0,13,10],[14,0,14,10],[15,0,15,10],[22,0,22,4],[22,5,22,10],[23,0,23,4],[23,5,23,10],[24,0,24,10],[25,0,25,10],[26,0,26,10]]}
["Ⅱ  师资队伍"]
["II-1  专任教师基本情况"]
["专业技术职务","人数合计","35岁及以下","36至40岁","41至45岁","46至50岁","50至55岁","56至60岁","61岁及以上","博士学位教师","硕士学位教师"]
["正高级",{"$f":"SUM(C4:I4)","v":0}]
["副高级",{"$f":"SUM(C5:I5)","v":0}]
["中  级",0]
["其  他",0]
["总  计",{"$f":"SUM(B4:B7)","v":0},{"$f":"SUM(C4:C7)","v":0},0,0,0,0,0,0,0,0]
["研究生导师人数",{"$nulls":3},"博士生导师人数",{"$nulls":3},"有海外经历教师人数"]
[1,{"$nulls":3},2,{"$nulls":3},3]
[]
["注：1.“行业经历”是指在相关行业从事工作3个月以上。汉语国际教育专业“行业经历”是指1年及以上海外学习及工作经历，单次时长大于3个月。"]
["    2.“研究生/博士生导师人数”仅统计具有导师资格且截至2017年12月31日仍在本学位点指导研究生的导师。"]
["    3.“海外经历”是指在境外高校/研究机构获得学位，或在境外高校/研究机构从事教学、科研工作时间3个月以上。"]
[]
["II-2  行业教师基本情况"]
["专业技术职务","人数合计","35岁及以下","36至40岁","41至45岁","46至50岁","50至55岁","56至60岁","61岁及以上","博士学位教师","硕士学位教师"]
["正高级",{"$f":"SUM(C18:I18)","v":0}]
["副高级",{"$f":"SUM(C19:I19)","v":0}]
["中  级",0]
["其  他",0]
["总  计",{"$f":"SUM(B18:B21)","v":0},{"$f":"SUM(C18:C21)","v":0},0,0,0,0,0,0,0,0]
["研究生导师人数",{"$nulls":4},"博士生导师人数"]
[]
[]
["注：1.本表限填本单位正式聘任的、与本专业学位相关的行业教师。"]
["    2.“研究生/博士生导师人数”仅统计具有导师资格且截至2017年12月31日仍在本学位点指导研究生的导师。"]
[]
[]
[]
[]
[{"$nulls":4}," "]

{"sheet":"II-3","index":4,"n_rows":63,"n_cols":7,"rows_kept":63,"merged":[[0,0,0,7],[2,0,2,7],[3,0,4,0],[3,1,4,1],[5,0,6,0],[5,1,6,1],[7,0,8,0],[7,1,8,1],[9,0,10,0],[9,1,10,1],[11,0,12,0],[11,1,12,1],[13,0,14,0],[13,1,14,1],[15,0,16,0],[15,1,16,1],[17,0,18,0],[17,1,18,1],[19,0,20,0],[19,1,20,1],[21,0,22,0],[21,1,22,1],[23,0,24,0],[23,1,24,1],[25,0,26,0],[25,1,26,1],[27,0,28,0],[27,1,28,1],[29,0,30,0],[29,1,30,1],[31,0,32,0],[31,1,32,1],[33,0,34,0],[33,1,34,1],[35,0,36,0],[35,1,36,1],[37,0,38,0],[37,1,38,1],[39,0,40,0],[39,1,40,1],[41,0,42,0],[41,1,42,1],[43,0,44,0],[43,1,44,1],[45,0,46,0],[45,1,46,1],[47,0,48,0],[47,1,48,1],[49,0,50,0],[49,1,50,1],[51,0,52,0],[51,1,52,1],[53,0,54,0],[53,1,54,1],[55,0,56,0],[55,1,56,1],[57,0,58,0],[57,1,58,1],[59,0,60,0],[59,1,60,1],[61,0,62,0],[61,1,62,1]]}
["注：请按表I所填领域（方向）名称逐一填写。"]
[]
["II-3  各领域（方向）教师情况"]
["领域（方向）名称",{"$f":"IF(Ⅰ!A11=\"\",\"\",Ⅰ!A11)","v":""},"专任教师数",null,"正高职专任教师数",null,"博士学位专任教师数"]
[null,null,"行业教师数",null,"正高职行业教师数",null,"博士学位行业教师数"]
["领域（方向）名称",{"$f":"IF(Ⅰ!A12=\"\",\"\",Ⅰ!A12)","v":""},"专任教师数",null,"正高职专任教师数",null,"博士学位专任教师数"]
[null,null,"行业教师数",null,"正高职行业教师数",null,"博士学位行业教师数"]
["领域（方向）名称",{"$f":"IF(Ⅰ!A13=\"\",\"\",Ⅰ!A13)","v":""},"专任教师数",null,"正高职专任教师数",null,"博士学位专任教师数"]
[null,null,"行业教师数",null,"正高职行业教师数",null,"博士学位行业教师数"]
["领域（方向）名称",{"$f":"IF(Ⅰ!A14=\"\",\"\",Ⅰ!A14)","v":""},"专任教师数",null,"正高职专任教师数",null,"博士学位专任教师数"]
[null,null,"行业教师数",null,"正高职行业教师数",null,"博士学位行业教师数"]
["领域（方向）名称",{"$f":"IF(Ⅰ!A15=\"\",\"\",Ⅰ!A15)","v":""},"专任教师数",null,"正高职专任教师数",null,"博士学位专任教师数"]
[null,null,"行业教师数",null,"正高职行业教师数",null,"博士学位行业教师数"]
["领域（方向）名称",{"$f":"IF(Ⅰ!A16=\"\",\"\",Ⅰ!A16)","v":""},"专任教师数",null,"正高职专任教师数",null,"博士学位专任教师数"]
[null,null,"行业教师数",null,"正高职行业教师数",null,"博士学位行业教师数"]
["领域（方向）名称",{"$f":"IF(Ⅰ!A17=\"\",\"\",Ⅰ!A17)","v":""},"专任教师数",null,"正高职专任教师数",null,"博士学位专任教师数"]
[null,null,"行业教师数",null,"正高职行业教师数",null,"博士学位行业教师数"]
["领域（方向）名称",{"$f":"IF(Ⅰ!A18=\"\",\"\",Ⅰ!A18)","v":""},"专任教师数",null,"正高职专任教师数",null,"博士学位专任教师数"]
[null,null,"行业教师数",null,"正高职行业教师数",null,"博士学位行业教师数"]
["领域（方向）名称",{"$f":"IF(Ⅰ!A19=\"\",\"\",Ⅰ!A19)","v":""},"专任教师数",null,"正高职专任教师数",null,"博士学位专任教师数"]
[null,null,"行业教师数",null,"正高职行业教师数",null,"博士学位行业教师数"]
["领域（方向）名称",{"$f":"IF(Ⅰ!A20=\"\",\"\",Ⅰ!A20)","v":""},"专任教师数",null,"正高职专任教师数",null,"博士学位专任教师数"]
[null,null,"行业教师数",null,"正高职行业教师数",null,"博士学位行业教师数"]
["领域（方向）名称",{"$f":"IF(Ⅰ!A21=\"\",\"\",Ⅰ!A21)","v":""},"专任教师数",null,"正高职专任教师数",null,"博士学位专任教师数"]
[null,null,"行业教师数",null,"正高职行业教师数",null,"博士学位行业教师数"]
["领域（方向）名称",{"$f":"IF(Ⅰ!A22=\"\",\"\",Ⅰ!A22)","v":""},"专任教师数",null,"正高职专任教师数",null,"博士学位专任教师数"]
[null,null,"行业教师数",null,"正高职行业教师数",null,"博士学位行业教师数"]
["领域（方向）名称",{"$f":"IF(Ⅰ!A23=\"\",\"\",Ⅰ!A23)","v":""},"专任教师数",null,"正高职专任教师数",null,"博士学位专任教师数"]
[null,null,"行业教师数",null,"正高职行业教师数",null,"博士学位行业教师数"]
["领域（方向）名称",{"$f":"IF(Ⅰ!A24=\"\",\"\",Ⅰ!A14)","v":""},"专任教师数",null,"正高职专任教师数",null,"博士学位专任教师数"]
[null,null,"行业教师数",null,"正高职行业教师数",null,"博士学位行业教师数"]
["领域（方向）名称",{"$f":"IF(Ⅰ!A25=\"\",\"\",Ⅰ!A25)","v":""},"专任教师数",null,"正高职专任教师数",null,"博士学位专任教师数"]
[null,null,"行业教师数",null,"正高职行业教师数",null,"博士学位行业教师数"]
["领域（方向）名称",{"$f":"IF(Ⅰ!A26=\"\",\"\",Ⅰ!A26)","v":""},"专任教师数",null,"正高职专任教师数",null,"博士学位专任教师数"]
[null,null,"行业教师数",null,"正高职行业教师数",null,"博士学位行业教师数"]
["领域（方向）名称",{"$f":"IF(Ⅰ!A27=\"\",\"\",Ⅰ!A27)","v":""},"专任教师数",null,"正高职专任教师数",null,"博士学位专任教师数"]
[null,null,"行业教师数",null,"正高职行业教师数",null,"博士学位行业教师数"]
["领域（方向）名称",{"$f":"IF(Ⅰ!A28=\"\",\"\",Ⅰ!A28)","v":""},"专任教师数",null,"正高职专任教师数",null,"博士学位专任教师数"]
[null,null,"行业教师数",null,"正高职行业教师数",null,"博士学位行业教师数"]
["领域（方向）名称",{"$f":"IF(Ⅰ!A29=\"\",\"\",Ⅰ!A29)","v":""},"专任教师数",null,"正高职专任教师数",null,"博士学位专任教师数"]
[null,null,"行业教师数",null,"正高职行业教师数",null,"博士学位行业教师数"]
["领域（方向）名称",{"$f":"IF(Ⅰ!A30=\"\",\"\",Ⅰ!A30)","v":""},"专任教师数",null,"正高职专任教师数",null,"博士学位专任教师数"]
[null,null,"行业教师数",null,"正高职行业教师数",null,"博士学位行业教师数"]
["领域（方向）名称",{"$f":"IF(Ⅰ!A31=\"\",\"\",Ⅰ!A31)","v":""},"专任教师数",null,"正高职专任教师数",null,"博士学位专任教师数"]
[null,null,"行业教师数",null,"正高职行业教师数",null,"博士学位行业教师数"]
["领域（方向）名称",{"$f":"IF(Ⅰ!A32=\"\",\"\",Ⅰ!A32)","v":""},"专任教师数",null,"正高职专任教师数",null,"博士学位专任教师数"]
[null,null,"行业教师数",null,"正高职行业教师数",null,"博士学位行业教师数"]
["领域（方向）名称",{"$f":"IF(Ⅰ!A33=\"\",\"\",Ⅰ!A33)","v":""},"专任教师数",null,"正高职专任教师数",null,"博士学位专任教师数"]
[null,null,"行业教师数",null,"正高职行业教师数",null,"博士学位行业教师数"]
["领域（方向）名称",{"$f":"IF(Ⅰ!A34=\"\",\"\",Ⅰ!A34)","v":""},"专任教师数",null,"正高职专任教师数",null,"博士学位专任教师数"]
[null,null,"行业教师数",null,"正高职行业教师数",null,"博士学位行业教师数"]
["领域（方向）名称",{"$f":"IF(Ⅰ!A35=\"\",\"\",Ⅰ!A35)","v":""},"专任教师数",null,"正高职专任教师数",null,"博士学位专任教师数"]
[null,null,"行业教师数",null,"正高职行业教师数",null,"博士学位行业教师数"]
["领域（方向）名称",{"$f":"IF(Ⅰ!A36=\"\",\"\",Ⅰ!A36)","v":""},"专任教师数",null,"正高职专任教师数",null,"博士学位专任教师数"]
[null,null,"行业教师数",null,"正高职行业教师数",null,"博士学位行业教师数"]
["领域（方向）名称",{"$f":"IF(Ⅰ!A37=\"\",\"\",Ⅰ!A37)","v":""},"专任教师数",null,"正高职专任教师数",null,"博士学位专任教师数"]
[null,null,"行业教师数",null,"正高职行业教师数",null,"博士学位行业教师数"]
["领域（方向）名称",{"$f":"IF(Ⅰ!A38=\"\",\"\",Ⅰ!A38)","v":""},"专任教师数",null,"正高职专任教师数",null,"博士学位专任教师数"]
[null,null,"行业教师数",null,"正高职行业教师数",null,"博士学位行业教师数"]
["领域（方向）名称",{"$f":"IF(Ⅰ!A39=\"\",\"\",Ⅰ!A39)","v":""},"专任教师数",null,"正高职专任教师数",null,"博士学位专任教师数"]
[null,null,"行业教师数",null,"正高职行业教师数",null,"博士学位行业教师数"]
["领域（方向）名称",{"$f":"IF(Ⅰ!A40=\"\",\"\",Ⅰ!A40)","v":""},"专任教师数",null,"正高职专任教师数",null,"博士学位专任教师数"]
[null,null,"行业教师数",null,"正高职行业教师数",null,"博士学位行业教师数"]

{"sheet":"II-4","index":5,"n_rows":7,"n_cols":6,"rows_kept":7,"merged":[[0,0,0,7],[1,0,1,1],[1,2,1,4],[1,5,1,7],[2,0,2,1],[2,2,2,4],[2,5,2,7],[3,0,3,3],[3,4,3,7],[4,0,4,3],[4,4,4,7],[5,0,5,7],[6,0,6,7]]}
["II-4  近五年专任教师参加教学相关培训情况"]
["参加教学相关培训总人数",null,"参加教学相关培训总人次",null,null,"参加教学相关培训总时间（天）"]
[]
["开展新上岗导师专门培训总次数",{"$nulls":3},"开展在岗导师专门培训总次数"]
[]
[]
["注：“教学相关培训”统计不含“导师专门培训”。"]

{"sheet":"Ⅲ-1-1","index":6,"n_rows":131,"n_cols":8,"rows_kept":131,"merged":[[0,0,0,7],[1,0,1,7],[2,0,2,7],[3,0,3,7],[4,0,4,7],[5,0,5,7],[6,0,7,2],[6,3,7,3],[6,4,7,4],[6,5,7,5],[6,6,7,6],[6,7,7,7],[8,0,11,0],[8,1,11,1],[12,0,15,0],[12,1,15,1],[16,0,19,0],[16,1,19,1],[20,0,23,0],[20,1,23,1],[24,0,27,0],[24,1,27,1],[28,0,31,0],[28,1,31,1],[32,0,35,0],[32,1,35,1],[36,0,39,0],[36,1,39,1],[40,0,43,0],[40,1,43,1],[44,0,47,0],[44,1,47,1],[48,0,51,0],[48,1,51,1],[52,0,55,0],[52,1,55,1],[56,0,59,0],[56,1,59,1],[60,0,63,0],[60,1,63,1],[64,0,67,0],[64,1,67,1],[68,0,71,0],[68,1,71,1],[72,0,75,0],[72,1,75,1],[76,0,79,0],[76,1,79,1],[80,0,83,0],[80,1,83,1],[84,0,87,0],[84,1,87,1],[88,0,91,0],[88,1,91,1],[92,0,95,0],[92,1,95,1],[96,0,99,0],[96,1,99,1],[100,0,103,0],[100,1,103,1],[104,0,107,0],[104,1,107,1],[108,0,111,0],[108,1,111,1],[112,0,115,0],[112,1,115,1],[116,0,119,0],[116,1,119,1],[120,0,123,0],[120,1,123,1],[124,0,127,0],[124,1,127,1],[128,0,128,2],[129,0,129,2],[130,0,130,2]]}
["注：1.请按表I所填领域（方向）名称逐一填写。"]
["    2.“招生人数”填写纳入全国研究生招生计划招生、录取的研究生人数。“分流淘汰人数”（或“授予学位人数”）填写在本单位分流淘汰（或授予学位）的各类研究生数（含全日制、非全日制研究生及留学研究生）。"]
[]
["Ⅲ  人才培养"]
["Ⅲ-1  研究生招生与学位授予情况"]
["Ⅲ-1-1  博士研究生招生与学位授予人数（仅博士专业学位授权点填写）"]
["人数                                   年度                          ",null,null,"2013年","2014年","2015年","2016年","2017年"]
[]
["领域（方向）名称",{"$f":"IF(Ⅰ!A11=\"\",\"\",Ⅰ!A11)","v":""},"全日制招生人数"]
[null,null,"非全日制招生人数"]
[null,null,"分流淘汰人数"]
[null,null,"授予学位人数"]
["领域（方向）名称",{"$f":"IF(Ⅰ!A12=\"\",\"\",Ⅰ!A12)","v":""},"全日制招生人数"]
[null,null,"非全日制招生人数"]
[null,null,"分流淘汰人数"]
[null,null,"授予学位人数"]
["领域（方向）名称",{"$f":"IF(Ⅰ!A13=\"\",\"\",Ⅰ!A13)","v":""},"全日制招生人数"]
[null,null,"非全日制招生人数"]
[null,null,"分流淘汰人数"]
[null,null,"授予学位人数"]
["领域（方向）名称",{"$f":"IF(Ⅰ!A14=\"\",\"\",Ⅰ!A14)","v":""},"全日制招生人数"]
[null,null,"非全日制招生人数"]
[null,null,"分流淘汰人数"]
[null,null,"授予学位人数"]
["领域（方向）名称",{"$f":"IF(Ⅰ!A15=\"\",\"\",Ⅰ!A15)","v":""},"全日制招生人数"]
[null,null,"非全日制招生人数"]
[null,null,"分流淘汰人数"]
[null,null,"授予学位人数"]
["领域（方向）名称",{"$f":"IF(Ⅰ!A16=\"\",\"\",Ⅰ!A16)","v":""},"全日制招生人数"]
[null,null,"非全日制招生人数"]
[null,null,"分流淘汰人数"]
[null,null,"授予学位人数"]
["领域（方向）名称",{"$f":"IF(Ⅰ!A17=\"\",\"\",Ⅰ!A17)","v":""},"全日制招生人数"]
[null,null,"非全日制招生人数"]
[null,null,"分流淘汰人数"]
[null,null,"授予学位人数"]
["领域（方向）名称",{"$f":"IF(Ⅰ!A18=\"\",\"\",Ⅰ!A18)","v":""},"全日制招生人数"]
[null,null,"非全日制招生人数"]
[null,null,"分流淘汰人数"]
[null,null,"授予学位人数"]
["领域（方向）名称",{"$f":"IF(Ⅰ!A19=\"\",\"\",Ⅰ!A19)","v":""},"全日制招生人数"]
[null,null,"非全日制招生人数"]
[null,null,"分流淘汰人数"]
[null,null,"授予学位人数"]
["领域（方向）名称",{"$f":"IF(Ⅰ!A20=\"\",\"\",Ⅰ!A20)","v":""},"全日制招生人数"]
[null,null,"非全日制招生人数"]
[null,null,"分流淘汰人数"]
[null,null,"授予学位人数"]
["领域（方向）名称",{"$f":"IF(Ⅰ!A21=\"\",\"\",Ⅰ!A21)","v":""},"全日制招生人数"]
[null,null,"非全日制招生人数"]
[null,null,"分流淘汰人数"]
[null,null,"授予学位人数"]
["领域（方向）名称",{"$f":"IF(Ⅰ!A22=\"\",\"\",Ⅰ!A22)","v":""},"全日制招生人数"]
[null,null,"非全日制招生人数"]
[null,null,"分流淘汰人数"]
[null,null,"授予学位人数"]
["领域（方向）名称",{"$f":"IF(Ⅰ!A23=\"\",\"\",Ⅰ!A23)","v":""},"全日制招生人数"]
[null,null,"非全日制招生人数"]
[null,null,"分流淘汰人数"]
[null,null,"授予学位人数"]
["领域（方向）名称",{"$f":"IF(Ⅰ!A24=\"\",\"\",Ⅰ!A24)","v":""},"全日制招生人数"]
[null,null,"非全日制招生人数"]
[null,null,"分流淘汰人数"]
[null,null,"授予学位人数"]
["领域（方向）名称",{"$f":"IF(Ⅰ!A25=\"\",\"\",Ⅰ!A25)","v":""},"全日制招生人数"]
[null,null,"非全日制招生人数"]
[null,null,"分流淘汰人数"]
[null,null,"授予学位人数"]
["领域（方向）名称",{"$f":"IF(Ⅰ!A26=\"\",\"\",Ⅰ!A26)","v":""},"全日制招生人数"]
[null,null,"非全日制招生人数"]
[null,null,"分流淘汰人数"]
[null,null,"授予学位人数"]
["领域（方向）名称",{"$f":"IF(Ⅰ!A27=\"\",\"\",Ⅰ!A27)","v":""},"全日制招生人数"]
[null,null,"非全日制招生人数"]
[null,null,"分流淘汰人数"]
[null,null,"授予学位人数"]
["领域（方向）名称",{"$f":"IF(Ⅰ!A28=\"\",\"\",Ⅰ!A28)","v":""},"全日制招生人数"]
[null,null,"非全日制招生人数"]
[null,null,"分流淘汰人数"]
[null,null,"授予学位人数"]
["领域（方向）名称",{"$f":"IF(Ⅰ!A29=\"\",\"\",Ⅰ!A29)","v":""},"全日制招生人数"]
[null,null,"非全日制招生人数"]
[null,null,"分流淘汰人数"]
[null,null,"授予学位人数"]
["领域（方向）名称",{"$f":"IF(Ⅰ!A30=\"\",\"\",Ⅰ!A30)","v":""},"全日制招生人数"]
[null,null,"非全日制招生人数"]
[null,null,"分流淘汰人数"]
[null,null,"授予学位人数"]
["领域（方向）名称",{"$f":"IF(Ⅰ!A31=\"\",\"\",Ⅰ!A31)","v":""},"全日制招生人数"]
[null,null,"非全日制招生人数"]
[null,null,"分流淘汰人数"]
[null,null,"授予学位人数"]
["领域（方向）名称",{"$f":"IF(Ⅰ!A32=\"\",\"\",Ⅰ!A32)","v":""},"全日制招生人数"]
[null,null,"非全日制招生人数"]
[null,null,"分流淘汰人数"]
[null,null,"授予学位人数"]
["领域（方向）名称",{"$f":"IF(Ⅰ!A33=\"\",\"\",Ⅰ!A33)","v":""},"全日制招生人数"]
[null,null,"非全日制招生人数"]
[null,null,"分流淘汰人数"]
[null,null,"授予学位人数"]
["领域（方向）名称",{"$f":"IF(Ⅰ!A34=\"\",\"\",Ⅰ!A34)","v":""},"全日制招生人数"]
[null,null,"非全日制招生人数"]
[null,null,"分流淘汰人数"]
[null,null,"授予学位人数"]
["领域（方向）名称",{"$f":"IF(Ⅰ!A35=\"\",\"\",Ⅰ!A35)","v":""},"全日制招生人数"]
[null,null,"非全日制招生人数"]
[null,null,"分流淘汰人数"]
[null,null,"授予学位人数"]
["领域（方向）名称",{"$f":"IF(Ⅰ!A36=\"\",\"\",Ⅰ!A36)","v":""},"全日制招生人数"]
[null,null,"非全日制招生人数"]
[null,null,"分流淘汰人数"]
[null,null,"授予学位人数"]
["领域（方向）名称",{"$f":"IF(Ⅰ!A37=\"\",\"\",Ⅰ!A37)","v":""},"全日制招生人数"]
[null,null,"非全日制招生人数"]
[null,null,"分流淘汰人数"]
[null,null,"授予学位人数"]
["领域（方向）名称",{"$f":"IF(Ⅰ!A38=\"\",\"\",Ⅰ!A38)","v":""},"全日制招生人数"]
[null,null,"非全日制招生人数"]
[null,null,"分流淘汰人数"]
[null,null,"授予学位人数"]
["领域（方向）名称",{"$f":"IF(Ⅰ!A39=\"\",\"\",Ⅰ!A39)","v":""},"全日制招生人数"]
[null,null,"非全日制招生人数"]
[null,null,"分流淘汰人数"]
[null,null,"授予学位人数"]
["领域（方向）名称",{"$f":"IF(Ⅰ!A40=\"\",\"\",Ⅰ!A40)","v":""},"全日制招生人数"]
[null,null,"非全日制招生人数"]
[null,null,"分流淘汰人数"]
[null,null,"授予学位人数"]
["招生总人数",null,null,{"$f":"SUM(IF(MOD(ROW(D9:D128)-1,4)<2,D9:D128))","v":0},{"$f":"SUM(IF(MOD(ROW(E9:E128)-1,4)<2,E9:E128))","v":0},{"$f":"SUM(IF(MOD(ROW(F9:F128)-1,4)<2,F9:F128))","v":0},{"$f":"SUM(IF(MOD(ROW(G9:G128)-1,4)<2,G9:G128))","v":0},{"$f":"SUM(IF(MOD(ROW(H9:H128)-1,4)<2,H9:H128))","v":0}]
["分流淘汰总人数",null,null,{"$f":"SUM(IF(MOD(ROW(D9:D128),4)=3,D9:D128))","v":0},{"$f":"SUM(IF(MOD(ROW(E9:E128),4)=3,E9:E128))","v":0},{"$f":"SUM(IF(MOD(ROW(F9:F128),4)=3,F9:F128))","v":0},{"$f":"SUM(IF(MOD(ROW(G9:G128),4)=3,G9:G128))","v":0},{"$f":"SUM(IF(MOD(ROW(H9:H128),4)=3,H9:H128))","v":0}]
["授予学位总人数",null,null,{"$f":"SUM(IF(MOD(ROW(D9:D128),4)=0,D9:D128))","v":0},{"$f":"SUM(IF(MOD(ROW(E9:E128),4)=0,E9:E128))","v":0},{"$f":"SUM(IF(MOD(ROW(F9:F128),4)=0,F9:F128))","v":0},{"$f":"SUM(IF(MOD(ROW(G9:G128),4)=0,G9:G128))","v":0},{"$f":"SUM(IF(MOD(ROW(H9:H128),4)=0,H9:H128))","v":0}]

{"sheet":"Ⅲ-1-2 ","index":7,"n_rows":129,"n_cols":8,"rows_kept":129,"merged":[[0,0,0,7],[1,0,1,7],[2,0,2,7],[3,0,3,7],[4,0,5,2],[4,3,5,3],[4,4,5,4],[4,5,5,5],[4,6,5,6],[4,7,5,7],[6,0,9,0],[6,1,9,1],[10,0,13,0],[10,1,13,1],[14,0,17,0],[14,1,17,1],[18,0,21,0],[18,1,21,1],[22,0,25,0],[22,1,25,1],[26,0,29,0],[26,1,29,1],[30,0,33,0],[30,1,33,1],[34,0,37,0],[34,1,37,1],[38,0,41,0],[38,1,41,1],[42,0,45,0],[42,1,45,1],[46,0,49,0],[46,1,49,1],[50,0,53,0],[50,1,53,1],[54,0,57,0],[54,1,57,1],[58,0,61,0],[58,1,61,1],[62,0,65,0],[62,1,65,1],[66,0,69,0],[66,1,69,1],[70,0,73,0],[70,1,73,1],[74,0,77,0],[74,1,77,1],[78,0,81,0],[78,1,81,1],[82,0,85,0],[82,1,85,1],[86,0,89,0],[86,1,89,1],[90,0,93,0],[90,1,93,1],[94,0,97,0],[94,1,97,1],[98,0,101,0],[98,1,101,1],[102,0,105,0],[102,1,105,1],[106,0,109,0],[106,1,109,1],[110,0,113,0],[110,1,113,1],[114,0,117,0],[114,1,117,1],[118,0,121,0],[118,1,121,1],[122,0,125,0],[122,1,125,1],[126,0,126,2],[127,0,127,2],[128,0,128,2]]}
["注：1.请按表I所填领域（方向）名称逐一填写。"]
["    2.“招生人数”填写纳入全国研究生招生计划招生、录取的研究生人数。“分流淘汰人数”（或“授予学位人数”）填写在本单位分流淘汰（或授予学位）的各类研究生数（含全日制、非全日制研究生及留学研究生）。"]
[]
["Ⅲ-1-2  硕士研究生招生与学位授予情况"]
["人数                                   年度",null,null,"2013年","2014年","2015年","2016年","2017年"]
[]
["领域（方向）名称",{"$f":"IF(Ⅰ!A11=\"\",\"\",Ⅰ!A11)","v":""},"全日制招生人数"]
[null,null,"非全日制招生人数"]
[null,null,"分流淘汰人数"]
[null,null,"授予学位人数"]
["领域（方向）名称",{"$f":"IF(Ⅰ!A12=\"\",\"\",Ⅰ!A12)","v":""},"全日制招生人数"]
[null,null,"非全日制招生人数"]
[null,null,"分流淘汰人数"]
[null,null,"授予学位人数"]
["领域（方向）名称",{"$f":"IF(Ⅰ!A13=\"\",\"\",Ⅰ!A13)","v":""},"全日制招生人数"]
[null,null,"非全日制招生人数"]
[null,null,"分流淘汰人数"]
[null,null,"授予学位人数"]
["领域（方向）名称",{"$f":"IF(Ⅰ!A14=\"\",\"\",Ⅰ!A14)","v":""},"全日制招生人数"]
[null,null,"非全日制招生人数"]
[null,null,"分流淘汰人数"]
[null,null,"授予学位人数"]
["领域（方向）名称",{"$f":"IF(Ⅰ!A15=\"\",\"\",Ⅰ!A15)","v":""},"全日制招生人数"]
[null,null,"非全日制招生人数"]
[null,null,"分流淘汰人数"]
[null,null,"授予学位人数"]
["领域（方向）名称",{"$f":"IF(Ⅰ!A16=\"\",\"\",Ⅰ!A16)","v":""},"全日制招生人数"]
[null,null,"非全日制招生人数"]
[null,null,"分流淘汰人数"]
[null,null,"授予学位人数"]
["领域（方向）名称",{"$f":"IF(Ⅰ!A17=\"\",\"\",Ⅰ!A17)","v":""},"全日制招生人数"]
[null,null,"非全日制招生人数"]
[null,null,"分流淘汰人数"]
[null,null,"授予学位人数"]
["领域（方向）名称",{"$f":"IF(Ⅰ!A18=\"\",\"\",Ⅰ!A18)","v":""},"全日制招生人数"]
[null,null,"非全日制招生人数"]
[null,null,"分流淘汰人数"]
[null,null,"授予学位人数"]
["领域（方向）名称",{"$f":"IF(Ⅰ!A19=\"\",\"\",Ⅰ!A19)","v":""},"全日制招生人数"]
[null,null,"非全日制招生人数"]
[null,null,"分流淘汰人数"]
[null,null,"授予学位人数"]
["领域（方向）名称",{"$f":"IF(Ⅰ!A20=\"\",\"\",Ⅰ!A20)","v":""},"全日制招生人数"]
[null,null,"非全日制招生人数"]
[null,null,"分流淘汰人数"]
[null,null,"授予学位人数"]
["领域（方向）名称",{"$f":"IF(Ⅰ!A21=\"\",\"\",Ⅰ!A21)","v":""},"全日制招生人数"]
[null,null,"非全日制招生人数"]
[null,null,"分流淘汰人数"]
[null,null,"授予学位人数"]
["领域（方向）名称",{"$f":"IF(Ⅰ!A22=\"\",\"\",Ⅰ!A22)","v":""},"全日制招生人数"]
[null,null,"非全日制招生人数"]
[null,null,"分流淘汰人数"]
[null,null,"授予学位人数"]
["领域（方向）名称",{"$f":"IF(Ⅰ!A23=\"\",\"\",Ⅰ!A23)","v":""},"全日制招生人数"]
[null,null,"非全日制招生人数"]
[null,null,"分流淘汰人数"]
[null,null,"授予学位人数"]
["领域（方向）名称",{"$f":"IF(Ⅰ!A24=\"\",\"\",Ⅰ!A24)","v":""},"全日制招生人数"]
[null,null,"非全日制招生人数"]
[null,null,"分流淘汰人数"]
[null,null,"授予学位人数"]
["领域（方向）名称",{"$f":"IF(Ⅰ!A25=\"\",\"\",Ⅰ!A25)","v":""},"全日制招生人数"]
[null,null,"非全日制招生人数"]
[null,null,"分流淘汰人数"]
[null,null,"授予学位人数"]
["领域（方向）名称",{"$f":"IF(Ⅰ!A26=\"\",\"\",Ⅰ!A26)","v":""},"全日制招生人数"]
[null,null,"非全日制招生人数"]
[null,null,"分流淘汰人数"]
[null,null,"授予学位人数"]
["领域（方向）名称",{"$f":"IF(Ⅰ!A27=\"\",\"\",Ⅰ!A27)","v":""},"全日制招生人数"]
[null,null,"非全日制招生人数"]
[null,null,"分流淘汰人数"]
[null,null,"授予学位人数"]
["领域（方向）名称",{"$f":"IF(Ⅰ!A28=\"\",\"\",Ⅰ!A28)","v":""},"全日制招生人数"]
[null,null,"非全日制招生人数"]
[null,null,"分流淘汰人数"]
[null,null,"授予学位人数"]
["领域（方向）名称",{"$f":"IF(Ⅰ!A29=\"\",\"\",Ⅰ!A29)","v":""},"全日制招生人数"]
[null,null,"非全日制招生人数"]
[null,null,"分流淘汰人数"]
[null,null,"授予学位人数"]
["领域（方向）名称",{"$f":"IF(Ⅰ!A30=\"\",\"\",Ⅰ!A30)","v":""},"全日制招生人数"]
[null,null,"非全日制招生人数"]
[null,null,"分流淘汰人数"]
[null,null,"授予学位人数"]
["领域（方向）名称",{"$f":"IF(Ⅰ!A31=\"\",\"\",Ⅰ!A31)","v":""},"全日制招生人数"]
[null,null,"非全日制招生人数"]
[null,null,"分流淘汰人数"]
[null,null,"授予学位人数"]
["领域（方向）名称",{"$f":"IF(Ⅰ!A32=\"\",\"\",Ⅰ!A32)","v":""},"全日制招生人数"]
[null,null,"非全日制招生人数"]
[null,null,"分流淘汰人数"]
[null,null,"授予学位人数"]
["领域（方向）名称",{"$f":"IF(Ⅰ!A33=\"\",\"\",Ⅰ!A33)","v":""},"全日制招生人数"]
[null,null,"非全日制招生人数"]
[null,null,"分流淘汰人数"]
[null,null,"授予学位人数"]
["领域（方向）名称",{"$f":"IF(Ⅰ!A34=\"\",\"\",Ⅰ!A34)","v":""},"全日制招生人数"]
[null,null,"非全日制招生人数"]
[null,null,"分流淘汰人数"]
[null,null,"授予学位人数"]
["领域（方向）名称",{"$f":"IF(Ⅰ!A35=\"\",\"\",Ⅰ!A35)","v":""},"全日制招生人数"]
[null,null,"非全日制招生人数"]
[null,null,"分流淘汰人数"]
[null,null,"授予学位人数"]
["领域（方向）名称",{"$f":"IF(Ⅰ!A36=\"\",\"\",Ⅰ!A36)","v":""},"全日制招生人数"]
[null,null,"非全日制招生人数"]
[null,null,"分流淘汰人数"]
[null,null,"授予学位人数"]
["领域（方向）名称",{"$f":"IF(Ⅰ!A37=\"\",\"\",Ⅰ!A37)","v":""},"全日制招生人数"]
[null,null,"非全日制招生人数"]
[null,null,"分流淘汰人数"]
[null,null,"授予学位人数"]
["领域（方向）名称",{"$f":"IF(Ⅰ!A38=\"\",\"\",Ⅰ!A38)","v":""},"全日制招生人数"]
[null,null,"非全日制招生人数"]
[null,null,"分流淘汰人数"]
[null,null,"授予学位人数"]
["领域（方向）名称",{"$f":"IF(Ⅰ!A39=\"\",\"\",Ⅰ!A39)","v":""},"全日制招生人数"]
[null,null,"非全日制招生人数"]
[null,null,"分流淘汰人数"]
[null,null,"授予学位人数"]
["领域（方向）名称",{"$f":"IF(Ⅰ!A40=\"\",\"\",Ⅰ!A40)","v":""},"全日制招生人数"]
[null,null,"非全日制招生人数"]
[null,null,"分流淘汰人数"]
[null,null,"授予学位人数"]
["招生总人数",null,null,{"$f":"SUM(IF(MOD(ROW(D7:D126)+1,4)<2,D7:D126))","v":0},{"$f":"SUM(IF(MOD(ROW(E7:E126)+1,4)<2,E7:E126))","v":0},{"$f":"SUM(IF(MOD(ROW(F7:F126)+1,4)<2,F7:F126))","v":0},{"$f":"SUM(IF(MOD(ROW(G7:G126)+1,4)<2,G7:G126))","v":0},{"$f":"SUM(IF(MOD(ROW(H7:H126)+1,4)<2,H7:H126))","v":0}]
["分流淘汰总人数",null,null,{"$f":"SUM(IF(MOD(ROW(D7:D126),4)=1,D7:D126))","v":0},{"$f":"SUM(IF(MOD(ROW(E7:E126),4)=1,E7:E126))","v":0},{"$f":"SUM(IF(MOD(ROW(F7:F126),4)=1,F7:F126))","v":0},{"$f":"SUM(IF(MOD(ROW(G7:G126),4)=1,G7:G126))","v":0},{"$f":"SUM(IF(MOD(ROW(H7:H126),4)=1,H7:H126))","v":0}]
["授予学位总人数",null,null,{"$f":"SUM(IF(MOD(ROW(D7:D126),4)=2,D7:D126))","v":0},{"$f":"SUM(IF(MOD(ROW(E7:E126),4)=2,E7:E126))","v":0},{"$f":"SUM(IF(MOD(ROW(F7:F126),4)=2,F7:F126))","v":0},{"$f":"SUM(IF(MOD(ROW(G7:G126),4)=2,G7:G126))","v":0},{"$f":"SUM(IF(MOD(ROW(H7:H126),4)=2,H7:H126))","v":0}]

{"sheet":"Ⅲ-2","index":8,"n_rows":21,"n_cols":6,"rows_kept":21,"merged":[[0,0,0,5],[1,0,1,5],[3,0,5,0],[7,0,10,0],[12,0,12,5],[13,0,13,3],[14,0,15,0],[14,1,14,3],[19,0,19,3],[20,0,20,3]]}
["Ⅲ-2  课程与教学情况"]
["Ⅲ-2-1  开设的研究生主要课程（不含全校公共课）"]
[null,"序号","课程名称","总学时","总学分","任课教师"]
["博士研究生课程                            (仅博士专业学位授权点填写)",1]
[null,2]
[null,3]
[null,"课程类型","课程数","总学时","总学分","任课教师数"]
["硕士研究生课程","基础理论课"]
[null,"案例教学类课程"]
[null,"独立开设的实践性课程"]
[null,"与企业联合开设的实践性课程"]
["近五年行业教师专题讲座总次数",null,"近五年职业规划与就业指导总次数",null,"案例库个数"]
[]
["Ⅲ-2-2  近五年教学获奖情况"]
["获奖类别","获奖数量"]
[null,"特等奖","一等奖","二等奖"]
["国家级教学成果奖"]
["研究生教育成果奖"]
["其他省部级教学成果奖"]
[]
["注：同一成果获得多种奖项的，选择一项进行统计，不重复统计。"]

{"sheet":"Ⅲ-3","index":9,"n_rows":6,"n_cols":4,"rows_kept":6,"merged":[[0,0,0,3],[5,0,5,3]]}
["Ⅲ-3  近五年在校生取得成果"]
["学生层次","已获授权专利数","创新创业获奖数","行业竞赛获奖数"]
["博士研究生（仅博士专业学位授权点填写）"]
["硕士研究生"]
[]
["注：本表仅统计学生为第一完成人的成果，同一成果获多种奖项或专利授权的，选择一项进行统计，不重复统计。"]

{"sheet":"Ⅲ-4","index":10,"n_rows":3,"n_cols":11,"rows_kept":3,"merged":[[0,0,0,10],[1,0,2,0],[1,1,1,2],[1,3,1,4],[1,5,1,6],[1,7,1,8],[1,9,1,10]]}
["Ⅲ-4  近五年在校生参加相关资格证书及培训考试情况"]
["考试名称","2013年",null,"2014年",null,"2015年",null,"2016年",null,"2017年"]
[null,"报考人数","通过人数","报考人数","通过人数","报考人数","通过人数","报考人数","通过人数","报考人数","通过人数"]

{"sheet":"Ⅲ-5","index":11,"n_rows":29,"n_cols":13,"rows_kept":29,"merged":[[0,0,0,8],[1,0,1,8],[2,0,4,0],[2,1,4,1],[2,2,4,2],[2,3,2,8],[3,3,4,3],[3,4,3,5],[3,6,4,6],[3,7,4,7],[3,8,4,8],[5,0,6,0],[7,0,8,0],[9,0,10,0],[11,0,12,0],[13,0,14,0],[15,0,15,12],[16,0,16,12],[17,0,18,0],[17,1,18,1],[17,2,18,2],[17,3,17,12],[19,0,20,0],[21,0,22,0],[23,0,24,0],[25,0,26,0],[27,0,28,0]]}
["Ⅲ-5  毕业生情况"]
["Ⅲ-5-1  近5年毕业生就业基本情况"]
["年份","学位类别","毕业生总数","就业情况（人）"]
[{"$nulls":3},"签订就业协议、劳动合同","升学",null,"自主创业","其他形式就业","未就业"]
[{"$nulls":4},"国内","国外"]
["2013年","博士",{"$f":"SUM(D6:I6)","v":0}]
[null,"硕士",{"$f":"SUM(D7:I7)","v":0}]
["2014年","博士",0]
[null,"硕士",0]
["2015年","博士",0]
[null,"硕士",0]
["2016年","博士",0]
[null,"硕士",0]
["2017年","博士",0]
[null,"硕士",0]
[]
["Ⅲ-5-2  近5年毕业生签约单位类型分布"]
["年份","学位类别","签约总人数","签约单位类型（人）"]
[{"$nulls":3},"党政机关","高等教育单位","中、初等教育单位","科研设计单位","医疗卫生单位","其他事业单位","国有企业","三资企业","民营企业","其他"]
["2013年","博士",{"$f":"SUM(D20:M20)","v":0}]
[null,"硕士",{"$f":"SUM(D21:M21)","v":0}]
["2014年","博士",0]
[null,"硕士",0]
["2015年","博士",0]
[null,"硕士",0]
["2016年","博士",0]
[null,"硕士",0]
["2017年","博士",0]
[null,"硕士",0]

{"sheet":"Ⅳ-1 IV-2","index":12,"n_rows":21,"n_cols":6,"rows_kept":21,"merged":[[0,0,0,2],[1,0,1,2],[4,0,4,2],[5,0,5,2],[6,0,6,5],[7,0,7,5],[8,0,8,5],[14,0,14,5],[15,0,15,1],[18,0,18,5],[19,0,19,5],[20,0,20,5]]}
["Ⅳ  培养环境与条件"]
["Ⅳ-1  成果转化/应用"]
["转化/应用的成果数（个）","转让使用单位数（个）","转让实际总收入（万元）"]
[]
[]
["注：“转化/应用的成果数”包括：发明专利、咨询报告、智库报告、标准制定、技术规范、高水平教学案例及其他原创性研究成果等。"]
[]
["Ⅳ-2  实践教学"]
["Ⅳ-2-1  校外实践教学基地情况"]
["基地级别","数量（个）","年均接受学生数（人）","人均实践时长（月）","基地中的行业教师数（人）","基地导师数（人）"]
["国家级"]
["省部级"]
["市、厅、局级"]
["本单位自建"]
[]
["Ⅳ-2-2  近五年专业实践活动与成果情况"]
["举办专业实践活动次数","取得专业实践成果数量"]
[]
[]
["注：1.“校外实践教学基地”仅统计2017年12月31日前已经与本单位签署合作协议的与本专业学位类别人才培养相关的实习、实训、实践基地，同一基地有多种冠名的，不重复统计。"]
["    2.“专业实践活动与成果”限填本单位组织开展的专业实践活动，或本单位取得的专业实践成果。如：原创教学案例、自建案例库、创新实践教学形式、创业教育活动、职业能力培训等。"]

{"sheet":"IV-3 IV-4","index":13,"n_rows":11,"n_cols":4,"rows_kept":11,"merged":[[0,0,0,3],[1,0,1,3],[6,0,6,3],[7,0,7,3]]}
["Ⅳ-3   近五年科研情况"]
["Ⅳ-3-1  近五年科研成果情况"]
["国家级科研获奖数",null,"省部级科研获奖数"]
["全国性行业科研获奖数",null,"全国专业学位教指委项目获奖数"]
["出版专著数",null,"公开发表学术论文总篇数"]
["出版实践类教材数",null,"已获授权专利数"]
[]
["Ⅳ-4  近五年国际国内学术交流情况"]
["计数            项目","主办、承办国际学术交流活动（次）","主办、承办国内学术交流活动（次）","资助师生参加国际国内学术交流专项经费（万元）"]
["累计"]
["平均",{"$f":"B10/5","v":0},{"$f":"C10/5","v":0},{"v":0,"d":"0.00"}]

{"sheet":"IV-5 IV-6","index":14,"n_rows":21,"n_cols":12,"rows_kept":21,"merged":[[0,0,0,11],[1,0,1,11],[2,0,2,2],[2,3,2,5],[2,6,2,8],[2,9,2,11],[3,0,3,2],[3,3,3,5],[3,6,3,8],[3,9,3,11],[4,0,4,2],[4,3,4,5],[4,6,4,8],[4,9,4,11],[5,0,5,2],[5,3,5,5],[5,6,5,8],[5,9,5,11],[6,0,6,5],[6,6,6,11],[7,0,7,11],[8,0,8,11],[9,0,9,2],[9,3,9,5],[9,6,9,8],[9,9,9,11],[10,0,10,2],[10,3,10,5],[10,6,10,8],[10,9,10,11],[11,0,11,11],[12,0,12,11],[13,0,13,11],[14,0,14,11],[15,0,16,1],[15,2,15,3],[15,4,15,5],[15,6,15,7],[15,8,15,9],[15,10,15,11],[17,0,17,1],[18,0,18,1],[19,0,19,1],[20,0,20,1]]}
["Ⅳ-5  可用于本专业学位研究生培养的教学/科研支撑"]
["Ⅳ-5-1  教学基本设施"]
[{"$nulls":3},"多媒体教室",null,null,"案例教室（讨论室）",null,null,"实践教室（实验室）"]
["数量（个）"]
["总面积（M2）"]
["容纳人数（人）"]
["仪器设备总值（万元）"]
[]
["Ⅳ-5-2校内教学科研平台"]
["国家级平台数",null,null,"省部级平台数",null,null,"市、厅、局级平台数",null,null,"本单位自建平台数"]
[]
[]
["注：同一实验室、基地、中心有多种冠名的，不重复统计。"]
[]
["Ⅳ-6  近五年奖助学金情况"]
[null,null,"2013年",null,"2014年",null,"2015年",null,"2016年",null,"2017年"]
[null,null,"奖学金","助学金","奖学金","助学金","奖学金","助学金","奖学金","助学金","奖学金","助学金"]
["项目总数（个）"]
["总额（万元）"]
["覆盖学生数"]
["覆盖学生比例"]